BEGIN:VCALENDAR
VERSION:2.0
PRODID:-//OmniMagnetCalendar//EN
BEGIN:VEVENT
DTSTAMP:20190625T195740Z
STATUS:CONFIRMED
UID:hcoregon.clubs.harvard.edu328
DTSTART:20180908T210000Z
DTEND:20180908T230000Z
LOCATION: Basecamp, Mother Joseph Plaza, 1st Floor, 9427 SW Barnes Road , Portland, OR, 97225, USA,
SUMMARY:Cambodia's Journey - Movie Screening & Discussion
DESCRIPTION:Join us for a partial screening of the award-winning film, "First They Killed My Father, produced by Angelina Jolie, and a discussion with visiting members of Journeys Within Our Community (JWOC), a Cambodia based nonprofit.
BEGIN:VALARM
TRIGGER:-PT15M
ACTION:DISPLAY
END:VALARM
TRANSP:OPAQUE
END:VEVENT
END:VCALENDAR
