BEGIN:VCALENDAR
VERSION:2.0
PRODID:-//OmniMagnetCalendar//EN
BEGIN:VEVENT
DTSTAMP:20190625T195740Z
STATUS:CONFIRMED
UID:hcoregon.clubs.harvard.edu382
DTSTART:20191025T020000Z
DTEND:20191025T033000Z
LOCATION:CBCGym, 2635 NE Broadway St, Portland, OR, 97232, USA,
SUMMARY:All I Really Need to Know I Learned in the  Boathouse - October 24, 2019.
DESCRIPTION:Join Juliet Thompson Hochman ‘89 for a roller coaster conversation about how lessons learned from world championship competition in rowing and triathlon help navigate life’s podiums and penalty boxes.
BEGIN:VALARM
TRIGGER:-PT15M
ACTION:DISPLAY
END:VALARM
TRANSP:OPAQUE
END:VEVENT
END:VCALENDAR
