BEGIN:VCALENDAR
VERSION:2.0
PRODID:-//OmniMagnetCalendar//EN
BEGIN:VEVENT
DTSTAMP:20190625T195740Z
STATUS:CONFIRMED
UID:hcoregon.clubs.harvard.edu427
DTSTART:20200922T233000Z
DTEND:20200923T003000Z
LOCATION:Online, USA,
SUMMARY:Taiwan Minister Audrey Tang speaks on Confronting Disinformation
DESCRIPTION:Harvard Kennedy School online event
BEGIN:VALARM
TRIGGER:-PT15M
ACTION:DISPLAY
END:VALARM
TRANSP:OPAQUE
END:VEVENT
END:VCALENDAR
