BEGIN:VCALENDAR
VERSION:2.0
PRODID:-//OmniMagnetCalendar//EN
BEGIN:VEVENT
DTSTAMP:20190625T195740Z
STATUS:CONFIRMED
UID:hcoregon.clubs.harvard.edu566
DTSTART:20260404T170000Z
DTEND:20260404T190000Z
LOCATION:The Peoples Courts, 2700 NE 82nd Ave, Portland, OR, 97220,
SUMMARY:Pickleball with Hall of Famer Steve Paranto - Saturday, April 4, 2026.
DESCRIPTION:Whether you are curious about pickleball or an experienced player, the Yale Club invites Harvard alums & friends to a fun, family-friendly event with Pickleball Hall of Famer Steve Paranto!
BEGIN:VALARM
TRIGGER:-PT15M
ACTION:DISPLAY
END:VALARM
TRANSP:OPAQUE
END:VEVENT
END:VCALENDAR
